BEGIN:VCALENDAR
VERSION:2.0
PRODID:icalendar-ruby
CALSCALE:GREGORIAN
BEGIN:VEVENT
DTSTAMP:20210122T072934Z
UID:70edb1e4-55f5-462c-8301-a0dae8e7aff7
DTSTART;VALUE=DATE:20190823
DESCRIPTION:Property ID# 458485\, Time: 12:00PM
SUMMARY:Auction for 
END:VEVENT
END:VCALENDAR
