BEGIN:VCALENDAR
VERSION:2.0
PRODID:icalendar-ruby
CALSCALE:GREGORIAN
BEGIN:VEVENT
DTSTAMP:20210122T072932Z
UID:4a7d970d-a6f7-4a4f-8475-10e2a9fd20a1
DTSTART;VALUE=DATE:20190919
DESCRIPTION:Property ID# 460200\, Time: 4:00PM
SUMMARY:Auction for 
END:VEVENT
END:VCALENDAR
