BEGIN:VCALENDAR
VERSION:2.0
PRODID:icalendar-ruby
CALSCALE:GREGORIAN
BEGIN:VEVENT
DTSTAMP:20210122T073000Z
UID:9f62b970-a7c5-4493-821b-a40ca530fc98
DTSTART;VALUE=DATE:20191203
DESCRIPTION:Property ID# 467007\, Locatoin: 51 Devon St West\, New Plymouth
 \, Time: 4:00PM
SUMMARY:Auction for 
END:VEVENT
END:VCALENDAR
