BEGIN:VCALENDAR
VERSION:2.0
PRODID:icalendar-ruby
CALSCALE:GREGORIAN
BEGIN:VEVENT
DTSTAMP:20210122T072956Z
UID:a0517c9d-fcfa-4a50-a9c3-21e7c6650336
DTSTART;VALUE=DATE:20200226
DESCRIPTION:Property ID# 472072\, Locatoin: 51 Devon St West\, New Plymouth
 \, Time: 4:00PM
SUMMARY:Auction for 
END:VEVENT
END:VCALENDAR
