BEGIN:VCALENDAR
VERSION:2.0
PRODID:icalendar-ruby
CALSCALE:GREGORIAN
BEGIN:VEVENT
DTSTAMP:20210122T072955Z
UID:ee727f22-273f-4b6b-a9eb-01c183ced706
DTSTART;VALUE=DATE:20200707
DESCRIPTION:Property ID# 483054\, Locatoin: 51 Devon St West\, New Plymouth
 \, Time: 4:00PM
SUMMARY:Auction for 
END:VEVENT
END:VCALENDAR
