BEGIN:VCALENDAR
VERSION:2.0
PRODID:icalendar-ruby
CALSCALE:GREGORIAN
BEGIN:VEVENT
DTSTAMP:20210122T072953Z
UID:5ec51ec6-d0c8-4f9f-9736-da0623ed987b
DTSTART;VALUE=DATE:20200714
DESCRIPTION:Property ID# 483984\, Locatoin: 51 Devon St West\, Time: 4:00PM
SUMMARY:Auction for 
END:VEVENT
END:VCALENDAR
