BEGIN:VCALENDAR
VERSION:2.0
PRODID:icalendar-ruby
CALSCALE:GREGORIAN
BEGIN:VEVENT
DTSTAMP:20210122T072952Z
UID:82190d63-9de6-4481-893b-ac40c0103c44
DTSTART;VALUE=DATE:20200728
DESCRIPTION:Property ID# 485099\, Locatoin: 51 Devon St West\, NP\, Time: 4
 :30PM
SUMMARY:Auction for 
END:VEVENT
END:VCALENDAR
