BEGIN:VCALENDAR
VERSION:2.0
PRODID:icalendar-ruby
CALSCALE:GREGORIAN
BEGIN:VEVENT
DTSTAMP:20210122T072950Z
UID:7712b2b6-61a1-474d-a30d-04ea5d3515e2
DTSTART;VALUE=DATE:20200819
DESCRIPTION:Property ID# 486488\, Locatoin: 51 Devon St West\, New Plymouth
 \, Time: 4:00PM
SUMMARY:Auction for 
END:VEVENT
END:VCALENDAR
