BEGIN:VCALENDAR
VERSION:2.0
PRODID:icalendar-ruby
CALSCALE:GREGORIAN
BEGIN:VEVENT
DTSTAMP:20210122T072947Z
UID:c62d90c1-9da7-4047-94fa-209cb29ab835
DTSTART;VALUE=DATE:20200825
DESCRIPTION:Property ID# 486894\, Locatoin: 51 Devon St West\, New Plymouth
 \, Time: 4:00PM
SUMMARY:Auction for 
END:VEVENT
END:VCALENDAR
