BEGIN:VCALENDAR
VERSION:2.0
PRODID:icalendar-ruby
CALSCALE:GREGORIAN
BEGIN:VEVENT
DTSTAMP:20210122T073015Z
UID:192df4fa-0799-439e-ad6c-ffe5d258c2e9
DTSTART;VALUE=DATE:20201120
DESCRIPTION:Property ID# 491951\, Locatoin: 247 Cameron Road\, Tauranga\, T
 ime: 4:00PM
SUMMARY:Auction for 21 Devonport Road
END:VEVENT
END:VCALENDAR
