BEGIN:VCALENDAR
VERSION:2.0
PRODID:icalendar-ruby
CALSCALE:GREGORIAN
BEGIN:VEVENT
DTSTAMP:20210122T073005Z
UID:882491e2-781d-4b5c-a7c3-38a9df151810
DTSTART;VALUE=DATE:20201126
DESCRIPTION:Property ID# 492273\, Locatoin:  247 Cameron Road\, Tauranga (u
 nless sold prior)	\, Time: 4:00PM
SUMMARY:Auction for 7-13 Te Maire Street
END:VEVENT
END:VCALENDAR
