BEGIN:VCALENDAR
VERSION:2.0
PRODID:icalendar-ruby
CALSCALE:GREGORIAN
BEGIN:VEVENT
DTSTAMP:20210122T072941Z
UID:3f9dc9c0-98df-4738-88d1-488928f3972d
DTSTART;TZID=Pacific/Auckland:20210121T130000
DTEND;TZID=Pacific/Auckland:20210121T133000
DESCRIPTION:Property ID# 499491
SUMMARY:Openhome for 162A Heta Road
END:VEVENT
END:VCALENDAR
