BEGIN:VCALENDAR
VERSION:2.0
PRODID:icalendar-ruby
CALSCALE:GREGORIAN
BEGIN:VEVENT
DTSTAMP:20210122T071826Z
UID:b7af80a4-59fd-4d63-a4f2-970029dd5a32
DTSTART;TZID=Pacific/Auckland:20210124T130000
DTEND;TZID=Pacific/Auckland:20210124T140000
DESCRIPTION:Property ID# 499300
SUMMARY:Openhome for 64 McGiven Drive
END:VEVENT
END:VCALENDAR
