BEGIN:VCALENDAR
VERSION:2.0
PRODID:icalendar-ruby
CALSCALE:GREGORIAN
BEGIN:VEVENT
DTSTAMP:20210122T071837Z
UID:2e832e12-a557-445a-a2cc-19da8511a0d1
DTSTART;TZID=Pacific/Auckland:20210124T130000
DTEND;TZID=Pacific/Auckland:20210124T133000
DESCRIPTION:Property ID# 498557
SUMMARY:Openhome for 366 Devon Street West
END:VEVENT
END:VCALENDAR
