BEGIN:VCALENDAR
VERSION:2.0
PRODID:icalendar-ruby
CALSCALE:GREGORIAN
BEGIN:VEVENT
DTSTAMP:20210122T072920Z
UID:490cf8a7-239e-42ec-9e1a-b2aec52bcbfc
DTSTART;TZID=Pacific/Auckland:20210124T103000
DTEND;TZID=Pacific/Auckland:20210124T110000
DESCRIPTION:Property ID# 499446
SUMMARY:Openhome for 12 Tangaroa Street
END:VEVENT
END:VCALENDAR
